BEGIN:VCALENDAR
VERSION:2.0
PRODID:-//hacksw/handcal//NONSGML v1.0//EN
BEGIN:VEVENT
DTSTAMP:20260506T220000Z
DTSTART:20260506T220000Z
DTEND:20260507T000000Z

SUMMARY:An Evening of Fine Arts 
DESCRIPTION:Comerica Bank, 313 Presents, Olympia Development, Ilitch Sports + Entertainment and the City Office of Arts, Culture and Entrepreneurship (Detroit ACE) are proud to present Detroit Public Schools Community District&#39;s (DPSCD) annual An Evening of Fine Arts for the fifth consecutive year at the Fox Theatre on Wednesday, May 6, at 6 p.m.Although admission to An Evening of Fine Arts is free and open to the public, tickets are required for entry and are available in advance at participating schools, the DPSCD Office of Fine Arts and online.An Evening of Fine Arts is the culmination of spectacular performances for middle and high school students that illuminates the tremendous talent within the district. After a competitive audition process, 760 students will shine in the Fox Theatre spotlight via 27 performances, and 6 student artists, whose original works of art will be displayed in the Fox Theatre&#39;s Grand Lobby. The free public event will feature instrumental music ensembles, vocal music ensembles, dance and theatre excerpts.For more information about An Evening of Fine Arts, visit Detroitk12.org.
END:VEVENT
END:VCALENDAR