BEGIN:VCALENDAR
VERSION:2.0
PRODID:-//hacksw/handcal//NONSGML v1.0//EN
BEGIN:VEVENT
DTSTAMP:20260919T230000Z
DTSTART:20260919T230000Z
DTEND:19700101T000000Z

SUMMARY:Banana Ball
DESCRIPTION:The wait is over, and the secret is out. Banana Ball is officially coming to Comerica Park on Friday, September 18 and Saturday, September 19. Presented in partnership with 313 Presents and the Detroit Sports Commission, the local games will feature the Firefighters taking on the Party Animals.Announced during the 2026 Banana Ball City Selection Show, that was broadcasted live on ESPN2, ESPN+, Disney+ and Banana Ball’s YouTube Channel, the Savannah Bananas confirmed that Comerica Park will be one of the stops on next year’s Banana Ball World Tour.Known for reimagining baseball with fast-paced play, crowd participation, and nonstop entertainment, Banana Ball has become one of the most talked-about live sports experiences in the country. Following a record-breaking 2025 tour that drew more than 2 million fans across 40 cities, the Bananas are taking their show to new heights in 2026 — with more teams, more competition, and more surprises than ever before.The 2026 season also marks the debut of the Banana Ball Championship League (BBCL), introducing new rivalries, competitive matchups, and high-stakes games on some of the most iconic stages in sports — including MLB, NFL, and college football stadiums nationwide.Fans can stay up to date by visiting  bananaball.com and following the Savannah Bananas on social media for updates.
END:VEVENT
END:VCALENDAR