BEGIN:VCALENDAR
VERSION:2.0
PRODID:-//hacksw/handcal//NONSGML v1.0//EN
BEGIN:VEVENT
DTSTAMP:20261013T000000Z
DTSTART:20261013T000000Z
DTEND:20261013T020000Z

SUMMARY:Beck
DESCRIPTION:Eight-time GRAMMY winner Beck brings the Ride Lonesome Tour to the Fox Theatre on Monday, October 12 at 8 p.m. Comerica Bank is the exclusive presenting partner of the Fox Theatre.Produced by Beck and mixed by Nigel Godrich, the new single "Ride Lonesome" evokes the beautiful and haunting sonic landscapes and textures of 2015 Album of the Year GRAMMY winner Morning Phase and its spiritual predecessor, 2002&#39;s classic Sea Change -- and features multiple musicians who played on those milestone releases. From the resonant acoustic guitar strains of its opening to the emotional peaks of its final chorus, this long-awaited new original composition is the first indication of a different yet familiar direction for Beck in the year ahead.The Ride Lonesome Tour kicks off September 16 at Vancouver&#39;s Queen Elizabeth Theatre, with stops including the Santa Barbara Bowl, the Greek in L.A., Red Rocks, two nights each at The Masonic in SF, Massey Hall in Toronto and the Brooklyn Paramount, before concluding October 31 at The Truth in Nashville.Website: beck.com
END:VEVENT
END:VCALENDAR