BEGIN:VCALENDAR
VERSION:2.0
PRODID:-//hacksw/handcal//NONSGML v1.0//EN
BEGIN:VEVENT
DTSTAMP:20260929T233000Z
DTSTART:20260929T233000Z
DTEND:20260930T013000Z

SUMMARY:Bleachers
DESCRIPTION:Bleachers announce details of their North American Bleachers Forever tour, including a performance at Michigan Lottery Amphitheatre on Tuesday, September 29 at 7:30 p.m. with support from This Is Lorelei.
END:VEVENT
END:VCALENDAR