BEGIN:VCALENDAR
VERSION:2.0
PRODID:-//hacksw/handcal//NONSGML v1.0//EN
BEGIN:VEVENT
DTSTAMP:20260508T233000Z
DTSTART:20260508T233000Z
DTEND:20260509T013000Z

SUMMARY:Dancing With The Stars: Live!
DESCRIPTION:Also Starring Dancing with the Stars Professional Dancers, Alan Bersten, Brandon Armstrong, Valentin Chmerkovskiy, Jenna Johnson, Britt Stewart, Daniella Karagach, Emma Slater, Ezra Sosa, Pasha Pashkov, and Hailey BillsDue to overwhelming demand, Dancing with the Stars: Live!  has added a second performance at Detroit’s Fox Theatre, bringing even more heat to the dance floor. This year’s all-new stage show will feature your favorite dancers from the #1 hit television show. They’ll be performing brand-new numbers dreamed up by Emmy award-winning choreographer Mandy Moore (Taylor Swift’s The Eras Tour) as well as some of the viral routines that launched a million TikToks. Come relive DWTS’ smash-hit, record-breaking 34th season live and in person on Friday, May 8 at 7:30 p.m. featuring celebrity guest Elaine Hendrix (Parent Trap, Freaky Friday) as co-host and dancer. Comerica Bank is the exclusive presenting partner of the Fox Theatre.“Dancing with the Stars: Live!” is produced by Faculty Productions in association with BBC Studios Los Angeles Productions and is promoted by Live Nation and NS2.
END:VEVENT
END:VCALENDAR