BEGIN:VCALENDAR
VERSION:2.0
PRODID:-//hacksw/handcal//NONSGML v1.0//EN
BEGIN:VEVENT
DTSTAMP:20260724T233000Z
DTSTART:20260724T233000Z
DTEND:20260725T013000Z

SUMMARY:Emmylou Harris & Graham Nash
DESCRIPTION:Two of music&#39;s most celebrated and influential voices will share the stage this summer as Emmylou Harris and Graham Nash bring a special co-headlining evening to Meadow Brook Amphitheatre on Friday, July 24 at 7:30 p.m. Oakland University Credit Union is the exclusive presenting partner of Meadow Brook Amphitheatre. 
END:VEVENT
END:VCALENDAR