BEGIN:VCALENDAR
VERSION:2.0
PRODID:-//hacksw/handcal//NONSGML v1.0//EN
BEGIN:VEVENT
DTSTAMP:20260820T233000Z
DTSTART:20260820T233000Z
DTEND:20260821T013000Z

SUMMARY:Empire of the Sun
DESCRIPTION:Empire of the Sun brings the Ask That God Tour: Afterlife to Michigan Lottery Amphitheatre on Thursday, August 20 at 7:30 p.m. with special guests Polo & Pan and Midnight Generation.The tour marks the band’s largest North American run to date and continues the immersive universe introduced on their latest album Ask That God. The reimagined live show blends electronic pop, cinematic visuals and theatrical storytelling to create a spectacular concert experience.Empire of the Sun — the visionary project created by Luke Steele and Nick Littlemore — has captivated audiences around the world with global hits including “Walking On A Dream,” “We Are The People,” “Alive” and “High and Low.” Their performances fuse music, imagination and surreal visuals into an unforgettable live experience.The tour arrives after the band’s massive global run spanning more than 22 countries and nine festivals, reaching over 220,000 fans worldwide.
END:VEVENT
END:VCALENDAR