BEGIN:VCALENDAR
VERSION:2.0
PRODID:-//hacksw/handcal//NONSGML v1.0//EN
BEGIN:VEVENT
DTSTAMP:20260605T230000Z
DTSTART:20260605T230000Z
DTEND:20260606T010000Z

SUMMARY:Kesha
DESCRIPTION:Following the raw, rebellious energy of last year&#39;s "Tits Out Tour," global pop icon Kesha returns this summer with her most powerful live experience yet: "The Freedom Tour," which will include a date with special guests Chromeo and Sizzy Rocket at Pine Knob Music Theatre on Friday, June 5 at 7 p.m. Pine Knob Music Theatre is presented by Proud Partners United Wholesale Mortgage, Trinity Health and Ally.More than a concert, The Freedom Tour is a declaration. After years of transformation, healing, and creative rebirth, Kesha is stepping into a new era – one defined by radical self-expression, spiritual resilience, and rebellious joy. The Freedom Tour will bring fans into a high-voltage world where glitter meets grit, pop anthems meet spiritual awakening, and survival becomes a celebration."I&#39;ve lived through the fire," says Kesha. "This tour is about what comes after. Freedom isn&#39;t just leaving something behind—it&#39;s discovering that what you have lived through has made you magnificently who you are."Known for turning her live shows into ecstatic communal rituals, Kesha promises a spectacle that blends massive pop production with intimate moments of truth. Expect anthems, surreal visuals, cathartic sing-alongs, and the kind of emotional release that transforms arenas into spiritual safe places.Over her career, Kesha has earned 10 top 10 singles, billions of streams, two #1 albums, four #1 songs on top 40 radio and nearly 40 million followers across social media. In 2025, she released "." (Period), which marked her first new album as an independent artist, and was met by worldwide critical praise. Recent singles from this new era include "BOY CRAZY. (Ft. Jade)," "ATTENTION! (Ft. Slayyyter & Rose Gray)" and "JOYRIDE" all released via Kesha Records.
END:VEVENT
END:VCALENDAR