BEGIN:VCALENDAR
VERSION:2.0
PRODID:-//hacksw/handcal//NONSGML v1.0//EN
BEGIN:VEVENT
DTSTAMP:20260730T000000Z
DTSTART:20260730T000000Z
DTEND:20260730T020000Z

SUMMARY:NE-YO & AKON
DESCRIPTION:GRAMMY award-winning hitmaker NE-YO and GRAMMY award-winning multi-platinum recording artist AKON announced their co-headlining Nights Like This global tour. Produced by Live Nation, the massive 57-city tour will visit Pine Knob Music Theatre on Wednesday, July 29 at 8 p.m. Pine Knob Music Theatre is presented by Proud Partners United Wholesale Mortgage, Trinity Health and Ally.The tour kicks off Friday, April 24 at 3Arena in Dublin, making stops in London, Paris, Atlanta, Houston, Toronto and more before wrapping Friday, August 21 in Inglewood, CA at Intuit Dome.The tour brings together two generational artists whose catalogs have defined radio, nightlife and pop culture. NE-YO and AKON will share the stage in a dynamic back-and-forth set filled with era-defining hits, sing-along anthems and club classics.Featuring NE-YO’s “So Sick,” “Closer,” and “Miss Independent,” alongside AKON’s “Smack That,” “Lonely,” and “Right Now (Na Na Na),” the Nights Like This Tour delivers a nostalgia rush for longtime fans and fresh excitement for new listeners alike.
END:VEVENT
END:VCALENDAR