BEGIN:VCALENDAR
VERSION:2.0
PRODID:-//hacksw/handcal//NONSGML v1.0//EN
BEGIN:VEVENT
DTSTAMP:20260726T233000Z
DTSTART:20260726T233000Z
DTEND:20260727T013000Z

SUMMARY:Night Ranger
DESCRIPTION:MotorCity Casino Hotel is excited to welcome back Night Ranger to Sound Board on Sunday, July 26, 2026, at 7:30 PM.SOUND BOARD, an intimate live performance venue is located at MotorCity Casino Hotel. The venue features four bars and several private suites that are available to create an unforgettable live entertainment event. Free and convenient valet and self-parking are available.
END:VEVENT
END:VCALENDAR