BEGIN:VCALENDAR
VERSION:2.0
PRODID:-//hacksw/handcal//NONSGML v1.0//EN
BEGIN:VEVENT
DTSTAMP:20261214T010000Z
DTSTART:20261214T010000Z
DTEND:20261214T030000Z

SUMMARY:NUTCRACKER! Magical Christmas Ballet 
DESCRIPTION:NUTCRACKER! Magical Christmas Ballet returns for three performances at the Fox Theatre on Sunday, December 13 at 12 p.m., 4 p.m. and 8 p.m. to delight audiences this holiday season. Comerica Bank is the exclusive presenting partner of the Fox Theatre.Celebrated as the largest Nutcracker production in North America, this breathtaking holiday spectacular features an international cast of world-class dancers, gravity-defying acrobatics, magnificent costumes, and towering puppetry. Set to Tchaikovsky&#39;s iconic score, the production transforms the stage into a vivid, immersive celebration of the season.Now in its 34th year, the tour continues to reach audiences in more than 80 cities annually, captivating over a quarter-million attendees each season. Presented by Talmi Entertainment, the production has become a defining holiday tradition for families across the country.A signature highlight of the performance is Act II&#39;s "Land of Peace and Harmony," featuring the awe-inspiring Dove of Peace adagio -- a powerful visual expression of unity, beauty, and shared humanity that distinguishes this production from traditional interpretations.Renowned for its Broadway-level production quality, NUTCRACKER! Magical Christmas Ballet collaborates with a global network of designers, artisans, and puppeteers to create a visually rich and imaginative world. From intricate costumes to larger-than-life characters, every detail is designed to deliver a one-of-a-kind theatrical experience.
END:VEVENT
END:VCALENDAR