BEGIN:VCALENDAR
VERSION:2.0
PRODID:-//hacksw/handcal//NONSGML v1.0//EN
BEGIN:VEVENT
DTSTAMP:20260813T000000Z
DTSTART:20260813T000000Z
DTEND:20260813T020000Z

SUMMARY:Richard Marx
DESCRIPTION:MotorCity Casino Hotel is excited to welcome Richard Marx to Sound Board on Wednesday, August 12, 2026, at 8:00 PM.SOUND BOARD, an intimate live performance venue is located at MotorCity Casino Hotel. The venue features four bars and several private suites that are available to create an unforgettable live entertainment event. Free and convenient valet and self-parking are available.
END:VEVENT
END:VCALENDAR