BEGIN:VCALENDAR
VERSION:2.0
PRODID:-//hacksw/handcal//NONSGML v1.0//EN
BEGIN:VEVENT
DTSTAMP:20260719T000000Z
DTSTART:20260719T000000Z
DTEND:20260719T020000Z

SUMMARY:Rick Ross
DESCRIPTION:Hip-hop icon Rick Ross celebrates the 20th anniversary of his groundbreaking debut album Port of Miami with a special live orchestral performance at the Fox Theatre on Saturday, July 18 at 8 p.m., joined by the Renaissance Orchestra and the Sainted Trap Choir. Comerica Bank is the exclusive presenting partner of the Fox Theatre.This special performance transforms Ross’s chart-defining records into a grand concert experience, blending hip-hop with the powerful sound of a full orchestra and choir for an unforgettable evening of music and elegance.Guests are encouraged to attend in formal black-tie attire for this historic performance.
END:VEVENT
END:VCALENDAR