BEGIN:VCALENDAR
VERSION:2.0
PRODID:-//hacksw/handcal//NONSGML v1.0//EN
BEGIN:VEVENT
DTSTAMP:20260607T000000Z
DTSTART:20260607T000000Z
DTEND:20260607T020000Z

SUMMARY:Ruben Studdard
DESCRIPTION:MotorCity Casino Hotel is proud to announce Ruben Studdard: My Tribute to Luther Vandross at Sound Board on Saturday, June 6, 2026 at 8:00pm.
END:VEVENT
END:VCALENDAR