BEGIN:VCALENDAR
VERSION:2.0
PRODID:-//hacksw/handcal//NONSGML v1.0//EN
BEGIN:VEVENT
DTSTAMP:20260718T223000Z
DTSTART:20260718T223000Z
DTEND:20260719T003000Z

SUMMARY:The Black Crowes & Whiskey Myers
DESCRIPTION:Genre-defying rock legends The Black Crowes today announce their massive co-headlining Southern Hospitality Tour with modern rock’s boundary-pushing powerhouse Whiskey Myers, along with opener Southall. Dominating rock careers forged via stage-shaking performances, this tour promises no bullshit — just a high-voltage rock-n-roll collision from the hardest-hitting bands in music today. Spanning more than 40 cities, the tour includes a stop at Pine Knob Music Theatre on Saturday, July 18 at 6:30 p.m. Pine Knob Music Theatre is presented by Proud Partners United Wholesale Mortgage, Trinity Health and Ally.Fresh off a career-spanning resurgence that included a 2025 GRAMMY® nod for Best Rock Album (Happiness Bastards) and their first nomination into the Rock & Roll Hall of Fame®, The Black Crowes will release their unfiltered, heart-pounding new album A Pound of Feathers on March 13. With Whiskey Myers co-headlining the bill, fans can expect thunderous drums, blistering guitar work, crowd-roaring singalongs and an electrifying reminder that rock-n-roll is alive and well. 
END:VEVENT
END:VCALENDAR