BEGIN:VCALENDAR
VERSION:2.0
PRODID:-//hacksw/handcal//NONSGML v1.0//EN
BEGIN:VEVENT
DTSTAMP:20260523T233000Z
DTSTART:20260523T233000Z
DTEND:20260524T023000Z

SUMMARY:The Kid LAROI
DESCRIPTION:GRAMMY-nominated, multi-platinum, chart-topping global superstar The Kid LAROI announced dates for his global A Perfect World Tour, which includes a stop at Michigan Lottery Amphitheatre on Saturday, May 23 at 7:30 p.m. Produced by Live Nation, the tour will kick off in Fort Lauderdale on April 27. The North American leg will make stops in major cities including New York, Los Angeles, Boston, Toronto and Houston before continuing across the UK and Europe, including stops in London, Paris, Amsterdam and Berlin. American singer-rapper Tommy Richman will serve as direct support on all North American dates with special guest WizTheMC.BEFORE I FORGET, released January 9, 2026 via Columbia Records, marks LAROI’s third full-length project and signals a powerful turning point for the 22-year-old artist defined by vulnerability and emotional clarity, featuring introspective storytelling across 15 tracks. BEFORE I FORGET debuted at No. 6 on the Billboard 200, earning 41,000 equivalent album units in its first week, including more than 30 million on-demand streams, becoming LAROI’s second Top 10 entry on the chart. Steeped in introspection and showcasing LAROI’s distinctive songwriting and genre-bending prowess at new heights, each track gives an intimate insight into his world. 
END:VEVENT
END:VCALENDAR