BEGIN:VCALENDAR
VERSION:2.0
PRODID:-//hacksw/handcal//NONSGML v1.0//EN
BEGIN:VEVENT
DTSTAMP:20260805T224500Z
DTSTART:20260805T224500Z
DTEND:20260806T004500Z

SUMMARY:Train 
DESCRIPTION:Multi-GRAMMY Award-winning, diamond-selling band Train is gearing up for a massive 2026 with the announcement of a brand-new North American summer headline tour. The “Drops of Jupiter: 25 Years in The Atmosphere Tour” will bring fans an epic night of music filled with Train’s most iconic, chart-topping hits including RIAA diamond-certified, #1 best-selling smash “Hey, Soul Sister,” double-GRAMMY-winning iconic track “Drops of Jupiter,” 5x platinum-certified anthem “Drive By,” and many more from their critically acclaimed catalog spanning three decades. Joining Train on the road this summer are multi-platinum-selling rock band Barenaked Ladies and acclaimed singer-songwriter Matt Nathanson. The tour will stop at Pine Knob Music Theatre on Wednesday, August 5 at 6:45 p.m. Pine Knob Music Theatre is presented by Proud Partners United Wholesale Mortgage, Trinity Health and Ally.Produced by Live Nation, the 2026 North American summer tour will kick off July 8 in West Palm Beach, FL, making stops in 38+ cities including New York, Los Angeles, Chicago, Nashville, Dallas, Phoenix, and more before concluding on August 30 in Auburn, WA. Additional stops include Colorado’s iconic Red Rocks Amphitheatre on August 17 and a co-headlining show with Barenaked Ladies in Toronto, ON on August 4.To celebrate the tour announcement, actor and comedian George Lopez recorded a special video message with Train frontman Pat Monahan, which debuted exclusively on USA Today alongside the news of the tour – watch here.With more than 10 million albums and 30 million tracks sold worldwide, 14 songs on Billboard’s Hot 100, and 13 albums on the Billboard 200, Train is marking yet another milestone in 2026, as they celebrate 25 years of their iconic, career-defining album Drops of Jupiter. Originally released in 2001, the album’s double-GRAMMY Award-winning title track is continuing to reach new heights, achieving rare RIAA diamond status and recently named by Rolling Stone as one of the 250 Greatest Songs of the 21st Century So Far, who proclaimed the song “has taken its place as a true standard, the closest this era has gotten to a ‘Don’t Stop Believin’’ or ‘Africa’ of its own” and declared: “it’s the music equivalent of the best soy latte that you ever had.”To coincide with the anniversary, Train is set to release new music this spring. The band will celebrate their tour announcement and kick off the milestone anniversary in NYC this week with very special performances at the TODAY Show on Wednesday and LIVE with Kelly and Mark on Thursday. Check your local listings.Additionally, after an incredible run on tour with Train last summer, Butch Walker, singer-songwriter, mega-producer, and longtime collaborator (Save Me, San Francisco, California 37, Bulletproof Picasso, AM Gold) has been announced as the newest member of the diamond-selling band. Over the last three decades, Walker has achieved massive success both as a solo artist and in bands (Marvelous 3), while also cultivating a reputation as an in-demand producer by working and collaborating with high-profile artists including Taylor Swift, Avril Lavigne, P!nk, Katy Perry, Fall Out Boy, Green Day, and more.Train is comprised of frontman Pat Monahan (lead vocals), Hector Maldonado (bass, vocals), Jerry Becker (keyboards, vocals), Butch Walker (guitar, vocals), and Matt Musty (drums, vocals).
END:VEVENT
END:VCALENDAR