BEGIN:VCALENDAR
VERSION:2.0
PRODID:-//hacksw/handcal//NONSGML v1.0//EN
BEGIN:VEVENT
DTSTAMP:20260906T233000Z
DTSTART:20260906T233000Z
DTEND:20260907T013000Z

SUMMARY:Wu-Tang Clan
DESCRIPTION:Legendary hip-hop collective Wu-Tang Clan announced their return to the road this summer with Wu-Tang Forever: The Final Chamber Tour, with special guest Bone Thugs-N-Harmony, bringing one of the most influential groups in music history back to stages across North America. Promoted by Live Nation, the 26-city tour will visit Pine Knob Music Theatre on Sunday, September 6 at 7:30 p.m. Pine Knob Music Theatre is presented by Proud Partners United Wholesale Mortgage, Trinity Health and Ally.Formed in Staten Island in the early 1990s, Wu-Tang Clan revolutionized hip-hop with their gritty sound, martial arts-inspired mythology, and groundbreaking collective model that launched both group success and iconic solo careers. Their 1993 debut album Enter the Wu-Tang (36 Chambers) is widely considered one of the most influential hip-hop records of all time, spawning classics like "C.R.E.A.M." and "Protect Ya Neck." Across decades, the group has maintained an unparalleled cultural legacy – spanning platinum albums, legendary solo releases, and a global fan base that continues to celebrate the Wu-Tang legacy both on record and on stage.Their live sets are a family affair, with every member of the crew representing their lyrical contributions to the Wu&#39;s eight studio albums, as well as notable cuts from the Wu-Tang solo discography. Whether they&#39;re delivering the 36 Chambers record front to back, or tracks from GZA&#39;s seminal Liquid Swords and Raekwon&#39;s Only Built 4 Cuban Linx..., or honoring the legacy of their departed brother, Ol&#39; Dirty Bastard, every Wu-Tang Clan show is a celebration of prolific careers as individuals and especially as the most storied group in hip-hop history.
END:VEVENT
END:VCALENDAR