BEGIN:VCALENDAR
VERSION:2.0
PRODID:-//hacksw/handcal//NONSGML v1.0//EN
BEGIN:VEVENT
DTSTAMP:20261107T000000Z
DTSTART:20261107T000000Z
DTEND:20261107T030000Z

SUMMARY:Zac Brown Band
DESCRIPTION:GRAMMY® Award-winning, multi-platinum group Zac Brown Band announces their Love & Fear U.S. Tour presented by Margaritaville at Sea. On the heels of the band’s historic limited engagement at Sphere Las Vegas and critically acclaimed eighth studio album, Love & Fear, the band will kick off the 27-show run this July and continue through November, bringing their electrifying live show to major markets across the country. The tour will include a stop at Little Caesars Arena on Friday, November 6 at 7 p.m. with special support from Brothers Osborne, along with performances at legendary venues including Fenway Park in Boston, Forest Hills Stadium in New York and Red Rocks Amphitheatre in Colorado.The Love & Fear era marks a bold creative chapter for Zac Brown Band, blending their roots-driven foundation with expansive storytelling and immersive production. That evolution came fully to life during the band’s groundbreaking Sphere Las Vegas engagement, where fans experienced a career-spanning performance centered on themes of resilience, gratitude and connection. Building on that momentum, the upcoming tour will feature a dynamic setlist fusing beloved hits with new releases, showcasing the band’s genre-defying musicianship and continued artistic growth.“I can’t wait to get this back on the road after an epic experience at Sphere,” says Zac Brown. “Every night we play is a chance to turn it up, mix things around and share an unforgettable night with our incredible fans. The Love & Fear tour is all about big energy — our new album, entertaining covers, the hits you know and love, a few unexpected curveballs and a whole lot of fun. We’re ready to bring it!”
END:VEVENT
END:VCALENDAR